BEGIN:VCALENDAR
VERSION:2.0
PRODID:-//Chesapeake Haven - ECPv4.6.11.1//NONSGML v1.0//EN
CALSCALE:GREGORIAN
METHOD:PUBLISH
X-WR-CALNAME:Chesapeake Haven
X-ORIGINAL-URL:http://chesapeakehaven.com
X-WR-CALDESC:Events for Chesapeake Haven
BEGIN:VEVENT
DTSTART;TZID=UTC+0:20220314T190000
DTEND;TZID=UTC+0:20220314T200000
DTSTAMP:20260424T232918
CREATED:20220119T064426Z
LAST-MODIFIED:20220119T064727Z
UID:617-1647284400-1647288000@chesapeakehaven.com
SUMMARY:Board Meeting
DESCRIPTION:Board Meetings are held via ZOOM.\nMeeting dates are subject to change.\nIf you wish to attend\, please contact Board president for the meeting invite. \n
URL:http://chesapeakehaven.com/event/board-meeting-11/
CATEGORIES:CHHOA Board Meetings
END:VEVENT
END:VCALENDAR