BEGIN:VCALENDAR
VERSION:2.0
PRODID:-//Chesapeake Haven - ECPv4.6.11.1//NONSGML v1.0//EN
CALSCALE:GREGORIAN
METHOD:PUBLISH
X-WR-CALNAME:Chesapeake Haven
X-ORIGINAL-URL:http://chesapeakehaven.com
X-WR-CALDESC:Events for Chesapeake Haven
BEGIN:VEVENT
DTSTART;TZID=UTC+0:20220911T193000
DTEND;TZID=UTC+0:20220911T203000
DTSTAMP:20260425T114303
CREATED:20220119T065425Z
LAST-MODIFIED:20220906T000805Z
UID:630-1662924600-1662928200@chesapeakehaven.com
SUMMARY:Board Meeting
DESCRIPTION:Board Meetings are held via ZOOM.\nMeeting dates are subject to change.\nIf you wish to attend\, please contact Board president for the meeting invite. \n
URL:http://chesapeakehaven.com/event/board-meeting-17/
CATEGORIES:CHHOA Board Meetings
END:VEVENT
END:VCALENDAR