BEGIN:VCALENDAR
VERSION:2.0
PRODID:-//Chesapeake Haven - ECPv4.6.11.1//NONSGML v1.0//EN
CALSCALE:GREGORIAN
METHOD:PUBLISH
X-WR-CALNAME:Chesapeake Haven
X-ORIGINAL-URL:http://chesapeakehaven.com
X-WR-CALDESC:Events for Chesapeake Haven
BEGIN:VEVENT
DTSTART;TZID=UTC+0:20221022T110000
DTEND;TZID=UTC+0:20221022T123000
DTSTAMP:20260425T150444
CREATED:20220916T234547Z
LAST-MODIFIED:20220923T002301Z
UID:670-1666436400-1666441800@chesapeakehaven.com
SUMMARY:Fall General Meeting - 2022
DESCRIPTION:Important topics will be discussed.\nMeeting is rain or shine.\nLocation is at Cross’ 65 Kent Ave.\nPlease bring your own chair. \nClick below to view or download the Meeting Notice and Agenda.  \nFall_2022_General_Meeting_Notice_Final \n
URL:http://chesapeakehaven.com/event/fall-general-meeting-2022/
LOCATION:65 Kent Ave\, Earleville\, MD\, 21919\, United States
CATEGORIES:General Meeting - Fall 2022
END:VEVENT
END:VCALENDAR