BEGIN:VCALENDAR
VERSION:2.0
PRODID:-//Chesapeake Haven - ECPv4.6.11.1//NONSGML v1.0//EN
CALSCALE:GREGORIAN
METHOD:PUBLISH
X-WR-CALNAME:Chesapeake Haven
X-ORIGINAL-URL:http://chesapeakehaven.com
X-WR-CALDESC:Events for Chesapeake Haven
BEGIN:VEVENT
DTSTART;TZID=UTC+0:20231112T100000
DTEND;TZID=UTC+0:20231112T113000
DTSTAMP:20260426T043948
CREATED:20230919T054030Z
LAST-MODIFIED:20231015T033027Z
UID:719-1699783200-1699788600@chesapeakehaven.com
SUMMARY:Fall General Meeting - 2023
DESCRIPTION:Come meet your neighbors.\nElection results will be announced and important topics that impact our community will be discussed.\nMeeting is rain or shine.\nLocation is at Cross’ 65 Kent Ave.\nPlease bring your own chair.  \n
URL:http://chesapeakehaven.com/event/fall-general-meeting-2023/
LOCATION:65 Kent Ave\, Earleville\, MD\, 21919\, United States
CATEGORIES:General Meeting - Fall 2023
END:VEVENT
END:VCALENDAR