BEGIN:VCALENDAR
VERSION:2.0
PRODID:-//Chesapeake Haven - ECPv4.6.11.1//NONSGML v1.0//EN
CALSCALE:GREGORIAN
METHOD:PUBLISH
X-WR-CALNAME:Chesapeake Haven
X-ORIGINAL-URL:http://chesapeakehaven.com
X-WR-CALDESC:Events for Chesapeake Haven
BEGIN:VEVENT
DTSTART;TZID=UTC+0:20220430T150000
DTEND;TZID=UTC+0:20220430T163000
DTSTAMP:20260425T023259
CREATED:20220111T062726Z
LAST-MODIFIED:20220404T192022Z
UID:612-1651330800-1651336200@chesapeakehaven.com
SUMMARY:Spring General Meeting - 2022
DESCRIPTION:Please plan to attend. Important topics will be discussed.\nLocation: Meeting will be held in the garage of Francy & Dave Cross.\n65 Kent Ave.\nPlease bring your own chair.\nSpring_2022_General_Meeting_Notice_Final \n
URL:http://chesapeakehaven.com/event/spring-general-meeting-2022/
LOCATION:65 Kent Ave\, Earleville\, MD\, 21919\, United States
CATEGORIES:General Meeting - Spring 2022
END:VEVENT
END:VCALENDAR