BEGIN:VCALENDAR
VERSION:2.0
PRODID:-//Chesapeake Haven - ECPv4.6.11.1//NONSGML v1.0//EN
CALSCALE:GREGORIAN
METHOD:PUBLISH
X-WR-CALNAME:Chesapeake Haven
X-ORIGINAL-URL:http://chesapeakehaven.com
X-WR-CALDESC:Events for Chesapeake Haven
BEGIN:VEVENT
DTSTART;TZID=UTC+0:20230520T100000
DTEND;TZID=UTC+0:20230520T113000
DTSTAMP:20260426T003413
CREATED:20230423T211235Z
LAST-MODIFIED:20230423T211235Z
UID:698-1684576800-1684582200@chesapeakehaven.com
SUMMARY:Spring General Meeting - 2023
DESCRIPTION:Come meet your neighbors.\nImportant topics that impact our community will be discussed.\nMeeting is rain or shine.\nLocation is at Cross’ 65 Kent Ave.\nPlease bring your own chair.  \nClick below to view or download the Meeting Notice Agenda.  \nSpring_2023_General_Meeting_Notice \n
URL:http://chesapeakehaven.com/event/spring-general-meeting-2023/
LOCATION:65 Kent Ave\, Earleville\, MD\, 21919\, United States
CATEGORIES:General Meeting - Spring 2023
END:VEVENT
END:VCALENDAR