BEGIN:VCALENDAR
VERSION:2.0
PRODID:-//Chesapeake Haven - ECPv4.6.11.1//NONSGML v1.0//EN
CALSCALE:GREGORIAN
METHOD:PUBLISH
X-WR-CALNAME:Chesapeake Haven
X-ORIGINAL-URL:http://chesapeakehaven.com
X-WR-CALDESC:Events for Chesapeake Haven
BEGIN:VEVENT
DTSTART;TZID=UTC+0:20240601T103000
DTEND;TZID=UTC+0:20240601T113000
DTSTAMP:20260426T020942
CREATED:20240419T181512Z
LAST-MODIFIED:20240510T015752Z
UID:738-1717237800-1717241400@chesapeakehaven.com
SUMMARY:Spring General Meeting - 2024
DESCRIPTION:Come discuss important topics that effect our community and meet your neighbors.\nLocation: Cross’ at 65 Kent Ave.\nMeeting is rain or shine.\nPlease bring your own chair.\nClick below to view or download the Meeting Notice/Agenda.  \nSpring_2024_General_Meeting_Notice \n
URL:http://chesapeakehaven.com/event/spring-general-meeting-2024/
CATEGORIES:General Meeting - Spring 2024
END:VEVENT
END:VCALENDAR