BEGIN:VCALENDAR
VERSION:2.0
PRODID:-//Chesapeake Haven - ECPv4.6.11.1//NONSGML v1.0//EN
CALSCALE:GREGORIAN
METHOD:PUBLISH
X-WR-CALNAME:Chesapeake Haven
X-ORIGINAL-URL:http://chesapeakehaven.com
X-WR-CALDESC:Events for Chesapeake Haven
BEGIN:VEVENT
DTSTART;TZID=UTC+0:20250531T103000
DTEND;TZID=UTC+0:20250531T120000
DTSTAMP:20260425T153903
CREATED:20250416T225922Z
LAST-MODIFIED:20250510T034654Z
UID:806-1748687400-1748692800@chesapeakehaven.com
SUMMARY:Spring General Meeting - 2025
DESCRIPTION:Come discuss important topics that effect our community and meet your neighbors.\nLocation: Cecilton Fire House – Hall\, upstairs\nThis is a business meeting; no children please.\nChairs are provided.\nThere is plenty of parking\, an elevator and a bathroom. \nClick below to view or download the Meeting Notice/Agenda.  \nSpring_2025_General_Meeting_Notice \n
URL:http://chesapeakehaven.com/event/spring-general-meeting-2025/
LOCATION:110 E Main St\, Cecilton\, MD\, 21913\, United States
CATEGORIES:General Meeting - Spring 2025
END:VEVENT
END:VCALENDAR