BEGIN:VCALENDAR
VERSION:2.0
PRODID:-//Chesapeake Haven - ECPv4.6.11.1//NONSGML v1.0//EN
CALSCALE:GREGORIAN
METHOD:PUBLISH
X-WR-CALNAME:Chesapeake Haven
X-ORIGINAL-URL:http://chesapeakehaven.com
X-WR-CALDESC:Events for Chesapeake Haven
BEGIN:VEVENT
DTSTART;TZID=America/New_York:20260514T193000
DTEND;TZID=America/New_York:20260514T203000
DTSTAMP:20260421T190427
CREATED:20260115T180810Z
LAST-MODIFIED:20260303T133443Z
UID:856-1778787000-1778790600@chesapeakehaven.com
SUMMARY:Board Meeting
DESCRIPTION:Board Meetings are held via ZOOM.\nMeeting dates are subject to change.\nIf you wish to attend\, please contact Board president for the meeting invite. \n
URL:http://chesapeakehaven.com/event/board-meeting-36/
CATEGORIES:CHHOA Board Meetings
END:VEVENT
END:VCALENDAR