BEGIN:VCALENDAR
VERSION:2.0
PRODID:-//Chesapeake Haven - ECPv4.6.11.1//NONSGML v1.0//EN
CALSCALE:GREGORIAN
METHOD:PUBLISH
X-WR-CALNAME:Chesapeake Haven
X-ORIGINAL-URL:http://chesapeakehaven.com
X-WR-CALDESC:Events for Chesapeake Haven
BEGIN:VEVENT
DTSTART;VALUE=DATE:20211003
DTEND;VALUE=DATE:20211004
DTSTAMP:20260424T185239
CREATED:20210908T044536Z
LAST-MODIFIED:20210908T044536Z
UID:598-1633219200-1633305599@chesapeakehaven.com
SUMMARY:Board Nomination Form 2022-2023 Last Day to Submit
DESCRIPTION:Board Nomination Forms for 2022-2023 term must be submitted on or before 10/3/2021.\nSee Board Members page for details. \n
URL:http://chesapeakehaven.com/event/board-nomination-form-2022-2023-last-day-to-submit/
CATEGORIES:Board Nominations
END:VEVENT
END:VCALENDAR